{
 "currentVersion": 11.5,
 "serviceDescription": "GraceEpiscopal_WEL",
 "serviceItemId": "3bee4d38f20c4814adb1cf71f8937e29",
 "name": "GraceEpiscopal_WEL",
 "description": "",
 "extent": {
  "xmin": 989998.0199999958,
  "ymin": 9965000.079999998,
  "xmax": 1223998.0199999958,
  "ymax": 1.0066980079999998E7,
  "spatialReference": {
   "wkid": 102744,
   "latestWkid": 3567
  }
 },
 "initialExtent": {
  "xmin": 989998.0199999958,
  "ymin": 9965000.079999998,
  "xmax": 1223998.0199999958,
  "ymax": 1.0066980079999998E7,
  "spatialReference": {
   "wkid": 102744,
   "latestWkid": 3567
  }
 },
 "fullExtent": {
  "xmin": 989998.0199999958,
  "ymin": 9965000.079999998,
  "xmax": 1223998.0199999958,
  "ymax": 1.0066980079999998E7,
  "spatialReference": {
   "wkid": 102744,
   "latestWkid": 3567
  }
 },
 "sortableFields": "",
 "bandCount": 1,
 "pixelType": "F32",
 "minValues": [
  2561.939697265625
 ],
 "maxValues": [
  2627.935546875
 ],
 "meanValues": [
  2596.299986464637
 ],
 "stdvValues": [
  12.780429223578032
 ],
 "serviceProperties": "Center<\/MosaicMethod>First<\/MosaicOperator>true<\/SortAscending><\/LockImageID><\/TileOrderField>0<\/TileOrderBase>0.000000<\/AvgImageSpacingX>0.000000<\/AvgImageSpacingY>0.0<\/ViewPointX>0.0<\/ViewPointY>0.0<\/ViewPointDefShiftX>0.0<\/ViewPointDefShiftY>None<\/CompressionMethod>75<\/CompressionQuality>0.100000<\/CompressionTolerance>Bilinear<\/SamplingMethod><\/ImageServiceProperties><\/ImageServer>",
 "allowedFields": "",
 "hasMultidimensions": false,
 "pixelSizeX": 10,
 "pixelSizeY": 10,
 "meanPixelSize": 3.0480060960121924,
 "datasetFormat": "GRID",
 "uncompressedSize": 954532800,
 "blockWidth": 256,
 "blockHeight": 16,
 "compressionType": "None",
 "bandNames": [
  "graceElev"
 ],
 "allowCopy": true,
 "allowAnalysis": true,
 "itemAccess": false,
 "inspectionCapabilities": "",
 "noDataValue": -3.4028234663852886E38,
 "noDataValues": [
  -3.4028234663852886E38
 ],
 "minPixelSize": 7.296024055401862,
 "maxPixelSize": 956304.4649896328,
 "copyrightText": "",
 "serviceDataType": "esriImageServiceDataTypeGeneric",
 "serviceSourceType": "esriImageServiceSourceTypeDataset",
 "objectIdField": "",
 "fields": [],
 "capabilities": "Mensuration,Image,Metadata",
 "defaultMosaicMethod": "Center",
 "allowedMosaicMethods": "",
 "sortField": "",
 "sortValue": null,
 "sortAscending": true,
 "mosaicOperator": "First",
 "defaultCompressionQuality": 75,
 "defaultResamplingMethod": "Bilinear",
 "maxImageHeight": 4100,
 "maxImageWidth": 15000,
 "singleFusedMapCache": true,
 "tileInfo": {
  "rows": 256,
  "cols": 256,
  "dpi": 96,
  "format": "LERC",
  "compressionQuality": 0,
  "lercError": 0.05,
  "origin": {
   "x": -1.2076655485200635E8,
   "y": 1.19695470701617E8
  },
  "spatialReference": {
   "wkid": 102744,
   "latestWkid": 3567,
   "vcsWkid": 105703,
   "latestVcsWkid": 6360
  },
  "lods": [
   {
    "level": 0,
    "resolution": 956304.4649896328,
    "scale": 1.101664946997951E9
   },
   {
    "level": 1,
    "resolution": 478152.2324948164,
    "scale": 5.508324734989755E8
   },
   {
    "level": 2,
    "resolution": 239076.1162474082,
    "scale": 2.7541623674948776E8
   },
   {
    "level": 3,
    "resolution": 119538.0581237041,
    "scale": 1.3770811837474388E8
   },
   {
    "level": 4,
    "resolution": 59769.02906185205,
    "scale": 6.885405918737194E7
   },
   {
    "level": 5,
    "resolution": 29884.514530926026,
    "scale": 3.442702959368597E7
   },
   {
    "level": 6,
    "resolution": 14942.257265463013,
    "scale": 1.7213514796842985E7
   },
   {
    "level": 7,
    "resolution": 7471.1286327315065,
    "scale": 8606757.398421492
   },
   {
    "level": 8,
    "resolution": 3735.5643163657533,
    "scale": 4303378.699210746
   },
   {
    "level": 9,
    "resolution": 1867.7821581828766,
    "scale": 2151689.349605373
   },
   {
    "level": 10,
    "resolution": 933.8910790914383,
    "scale": 1075844.6748026866
   },
   {
    "level": 11,
    "resolution": 466.94553954571916,
    "scale": 537922.3374013433
   },
   {
    "level": 12,
    "resolution": 233.47276977285958,
    "scale": 268961.16870067164
   },
   {
    "level": 13,
    "resolution": 116.73638488642979,
    "scale": 134480.58435033582
   },
   {
    "level": 14,
    "resolution": 58.368192443214895,
    "scale": 67240.29217516791
   },
   {
    "level": 15,
    "resolution": 29.184096221607447,
    "scale": 33620.146087583955
   },
   {
    "level": 16,
    "resolution": 14.592048110803724,
    "scale": 16810.073043791977
   },
   {
    "level": 17,
    "resolution": 7.296024055401862,
    "scale": 8405.036521895989
   },
   {
    "level": 18,
    "resolution": 3.648012027700931,
    "scale": 4202.518260947994
   },
   {
    "level": 19,
    "resolution": 1.8240060138504655,
    "scale": 2101.259130473997
   },
   {
    "level": 20,
    "resolution": 0.9120030069252327,
    "scale": 1050.6295652369986
   },
   {
    "level": 21,
    "resolution": 0.45600150346261636,
    "scale": 525.3147826184993
   },
   {
    "level": 22,
    "resolution": 0.22800075173130818,
    "scale": 262.65739130924965
   },
   {
    "level": 23,
    "resolution": 0.11400037586565409,
    "scale": 131.32869565462482
   }
  ]
 },
 "storageInfo": {
  "storageFormat": "esriMapCacheStorageModeCompactV2",
  "packetSize": 128
 },
 "cacheType": "Elevation",
 "allowRasterFunction": true,
 "rasterFunctionInfos": [
  {
   "name": "None",
   "description": "",
   "help": ""
  }
 ],
 "rasterTypeInfos": [
  {
   "name": "Raster Dataset",
   "description": "Supports all ArcGIS Raster Datasets",
   "help": ""
  }
 ],
 "mensurationCapabilities": "Basic",
 "hasHistograms": true,
 "hasColormap": false,
 "hasRasterAttributeTable": false,
 "minScale": 1.101664946997951E9,
 "maxScale": 8405.036521895989,
 "minLOD": 0,
 "maxLOD": 17,
 "exportTilesAllowed": false,
 "supportsStatistics": false,
 "supportsAdvancedQueries": false,
 "editFieldsInfo": null,
 "ownershipBasedAccessControlForRasters": null,
 "allowComputeTiePoints": false,
 "useStandardizedQueries": true,
 "advancedQueryCapabilities": {
  "useStandardizedQueries": true,
  "supportsStatistics": false,
  "supportsOrderBy": false,
  "supportsDistinct": false,
  "supportsPagination": false
 },
 "spatialReference": {
  "wkid": 102744,
  "latestWkid": 3567
 },
 "resampling": false
}
