{ "currentVersion": 11.1, "serviceDescription": "

Field Value 1 = 0-19.9% slope; Field Value 2 = 20-20.99% slope; Field Value 3 = 30%+ slope.<\/SPAN><\/P>
<\/P><\/DIV><\/DIV><\/DIV>", "name": "HillsideSlope2009", "description": "

Field Value 1 = 0-19.9% slope; Field Value 2 = 20-20.99% slope; Field Value 3 = 30%+ slope.<\/SPAN><\/P>
<\/P><\/DIV><\/DIV><\/DIV>", "extent": { "xmin": 228580.06913436882, "ymin": 4096589.736842526, "xmax": 331956.57140894013, "ymax": 4166620.4847517097, "spatialReference": { "wkid": 26912, "latestWkid": 26912, "vcsWkid": 5703, "latestVcsWkid": 5703 } }, "initialExtent": { "xmin": 228580.06913436882, "ymin": 4096589.736842526, "xmax": 331956.57140894013, "ymax": 4166620.4847517097, "spatialReference": { "wkid": 26912, "latestWkid": 26912, "vcsWkid": 5703, "latestVcsWkid": 5703 } }, "fullExtent": { "xmin": 228580.06913436882, "ymin": 4096589.736842526, "xmax": 331956.57140894013, "ymax": 4166620.4847517097, "spatialReference": { "wkid": 26912, "latestWkid": 26912, "vcsWkid": 5703, "latestVcsWkid": 5703 } }, "sortableFields": "", "heightModelInfo": { "heightModel": "gravity_related_height", "vertCRS": "NAVD_1988", "heightUnit": "meter" }, "bandCount": 1, "pixelType": "U2", "minValues": [ 1 ], "maxValues": [ 3 ], "meanValues": [ 2.175110743873023 ], "stdvValues": [ 0.9178387309649275 ], "hasMultidimensions": false, "pixelSizeX": 9.327483738569999, "pixelSizeY": 9.327483738570008, "datasetFormat": "GRID", "uncompressedSize": 20800021, "blockWidth": 256, "blockHeight": 16, "compressionType": "RLE", "bandNames": [ "HillSlope2009" ], "allowCopy": true, "allowAnalysis": true, "itemAccess": false, "noDataValue": 0, "noDataValues": [ 0 ], "minPixelSize": 0, "maxPixelSize": 0, "copyrightText": "", "serviceDataType": "esriImageServiceDataTypeGeneric", "serviceSourceType": "esriImageServiceSourceTypeDataset", "objectIdField": "", "fields": [], "capabilities": "Image,Metadata,Mensuration", "defaultMosaicMethod": "Center", "allowedMosaicMethods": "", "sortField": "", "sortValue": null, "sortAscending": true, "mosaicOperator": "First", "defaultCompressionQuality": 75, "defaultResamplingMethod": "Bilinear", "maxImageHeight": 4100, "maxImageWidth": 15000, "allowRasterFunction": true, "rasterFunctionInfos": [ { "name": "None", "description": "", "help": "" } ], "rasterTypeInfos": [ { "name": "Raster Dataset", "description": "Supports all ArcGIS Raster Datasets", "help": "" } ], "mensurationCapabilities": "Basic", "hasHistograms": true, "hasColormap": false, "hasRasterAttributeTable": true, "minScale": 0, "maxScale": 0, "exportTilesAllowed": false, "supportsStatistics": false, "supportsAdvancedQueries": false, "editFieldsInfo": null, "ownershipBasedAccessControlForRasters": null, "allowComputeTiePoints": false, "useStandardizedQueries": true, "advancedQueryCapabilities": { "useStandardizedQueries": true, "supportsStatistics": false, "supportsOrderBy": false, "supportsDistinct": false, "supportsPagination": false }, "spatialReference": { "wkid": 26912, "latestWkid": 26912, "vcsWkid": 5703, "latestVcsWkid": 5703 } }