View In:
ArcGIS JavaScript
ArcGIS Online Map Viewer
ArcGIS Earth
Service Description: SlopeDegree_2009
Name: SlopeDegree_2009
Description:
Single Fused Map Cache: false
Extent:
XMin: 228580.06913436882
YMin: 4096589.736842526
XMax: 331956.57140894013
YMax: 4166620.4847517097
Spatial Reference: 26912
(26912)
VCSWkid(5703)
LatestVCSWkid(5703)
Initial Extent:
XMin: 228580.06913436882
YMin: 4096589.736842526
XMax: 331956.57140894013
YMax: 4166620.4847517097
Spatial Reference: 26912
(26912)
VCSWkid(5703)
LatestVCSWkid(5703)
Full Extent:
XMin: 228580.06913436882
YMin: 4096589.736842526
XMax: 331956.57140894013
YMax: 4166620.4847517097
Spatial Reference: 26912
(26912)
VCSWkid(5703)
LatestVCSWkid(5703)
Pixel Size X: 9.327483738569999
Pixel Size Y: 9.327483738570008
Band Count: 1
Pixel Type: S8
RasterFunction Infos: {"rasterFunctionInfos": [{
"name": "None",
"description": "",
"help": ""
}]}
Mensuration Capabilities: Basic
Has Histograms: true
Has Colormap: false
Has Multi Dimensions : false
Rendering Rule:
Min Scale: 0
Max Scale: 0
Copyright Text:
Service Data Type: esriImageServiceDataTypeThematic
Min Values: 0
Max Values: 88
Mean Values: 33.11460283538924
Standard Deviation Values: 21.66936966411087
Object ID Field:
Fields:
None
Default Mosaic Method: Center
Allowed Mosaic Methods:
SortField:
SortValue: null
Mosaic Operator: First
Default Compression Quality: 75
Default Resampling Method: Bilinear
Max Record Count: null
Max Image Height: 4100
Max Image Width: 15000
Max Download Image Count: null
Max Mosaic Image Count: null
Allow Raster Function: true
Allow Copy: true
Allow Analysis: true
Allow Compute TiePoints: false
Supports Statistics: false
Supports Advanced Queries: false
Use StandardizedQueries: true
Raster Type Infos:
Name: Raster Dataset
Description: Supports all ArcGIS Raster Datasets
Help:
Has Raster Attribute Table: true
Edit Fields Info: null
Ownership Based AccessControl For Rasters: null
Child Resources:
Info
Raster Attribute Table
Histograms
Statistics
Key Properties
Legend
Raster Function Infos
Supported Operations:
Export Image
Identify
Measure
Compute Histograms
Compute Statistics Histograms
Get Samples
Compute Class Statistics
Query Boundary
Compute Pixel Location
Compute Angles
Validate
Project