View In:
ArcGIS JavaScript
ArcGIS Online Map Viewer
ArcGIS Earth
Service Description: Hillshade
Name: Hillshade
Description:
Single Fused Map Cache: false
Extent:
XMin: 228567.83776646052
YMin: 4096583.744930908
XMax: 332044.7941479705
YMax: 4166835.8657274335
Spatial Reference: 26912
(26912)
LatestVCSWkid(0)
Initial Extent:
XMin: 228567.83776646052
YMin: 4096583.744930908
XMax: 332044.7941479705
YMax: 4166835.8657274335
Spatial Reference: 26912
(26912)
LatestVCSWkid(0)
Full Extent:
XMin: 228567.83776646052
YMin: 4096583.744930908
XMax: 332044.7941479705
YMax: 4166835.8657274335
Spatial Reference: 26912
(26912)
LatestVCSWkid(0)
Pixel Size X: 9.319729476854002
Pixel Size Y: 9.319729476853992
Band Count: 1
Pixel Type: U8
RasterFunction Infos: {"rasterFunctionInfos": [{
"name": "None",
"description": "",
"help": ""
}]}
Mensuration Capabilities: Basic
Inspection Capabilities:
Has Histograms: false
Has Colormap: false
Has Multi Dimensions : false
Rendering Rule:
Min Scale: 0
Max Scale: 0
Copyright Text:
Service Data Type: esriImageServiceDataTypeGeneric
Min Values: 4
Max Values: 238
Mean Values: 198.48106893069487
Standard Deviation Values: 41.395268702232926
Object ID Field:
Fields:
None
Default Mosaic Method: Center
Allowed Mosaic Methods:
SortField:
SortValue: null
Mosaic Operator: First
Default Compression Quality: 75
Default Resampling Method: Bilinear
Max Record Count: null
Max Image Height: 4100
Max Image Width: 15000
Max Download Image Count: null
Max Mosaic Image Count: null
Allow Raster Function: true
Allow Copy: true
Allow Analysis: true
Allow Compute TiePoints: false
Supports Statistics: false
Supports Advanced Queries: false
Use StandardizedQueries: true
Raster Type Infos:
Name: Raster Dataset
Description: Supports all ArcGIS Raster Datasets
Help:
Has Raster Attribute Table: true
Edit Fields Info: null
Ownership Based AccessControl For Rasters: null
Child Resources:
Info
Raster Attribute Table
Statistics
Key Properties
Legend
Raster Function Infos
Supported Operations:
Export Image
Identify
Measure
Compute Histograms
Compute Statistics Histograms
Get Samples
Compute Class Statistics
Query Boundary
Compute Pixel Location
Compute Angles
Validate
Project