View In:
ArcGIS JavaScript
ArcGIS Online Map Viewer
ArcGIS Earth
Service Description: NAIP_2004
Name: NAIP_2004
Description:
Single Fused Map Cache: false
Extent:
XMin: 227398.0
YMin: 4096326.0
XMax: 334700.0
YMax: 4174687.0
Spatial Reference: 26912
(26912)
LatestVCSWkid(0)
Initial Extent:
XMin: 227398.0
YMin: 4096326.0
XMax: 334700.0
YMax: 4174687.0
Spatial Reference: 26912
(26912)
LatestVCSWkid(0)
Full Extent:
XMin: 227398.0
YMin: 4096326.0
XMax: 334700.0
YMax: 4174687.0
Spatial Reference: 26912
(26912)
LatestVCSWkid(0)
Pixel Size X: 1.0
Pixel Size Y: 1.0
Band Count: 3
Pixel Type: U8
RasterFunction Infos: {"rasterFunctionInfos": [{
"name": "None",
"description": "",
"help": ""
}]}
Mensuration Capabilities: Basic
Inspection Capabilities:
Has Histograms: true
Has Colormap: false
Has Multi Dimensions : false
Rendering Rule:
Min Scale: 0
Max Scale: 0
Resampling: false
Copyright Text:
Service Data Type: esriImageServiceDataTypeRGB
Min Values: 0, 0, 0
Max Values: 212, 204, 178
Mean Values: 83.715615337044, 79.336239950526, 53.080333951763
Standard Deviation Values: 60.497535564237, 56.550911745587, 38.476014459594
Object ID Field:
Fields:
None
Default Mosaic Method: Center
Allowed Mosaic Methods:
SortField:
SortValue: null
Mosaic Operator: Max
Default Compression Quality: 75
Default Resampling Method: Bilinear
Max Record Count: null
Max Image Height: 4100
Max Image Width: 15000
Max Download Image Count: null
Max Mosaic Image Count: null
Allow Raster Function: true
Allow Copy: true
Allow Analysis: true
Allow Compute TiePoints: false
Supports Statistics: false
Supports Advanced Queries: false
Use StandardizedQueries: true
Raster Type Infos:
Name: Raster Dataset
Description: Supports all ArcGIS Raster Datasets
Help:
Has Raster Attribute Table: false
Edit Fields Info: null
Ownership Based AccessControl For Rasters: null
Child Resources:
Info
Histograms
Statistics
Key Properties
Legend
Raster Function Infos
Supported Operations:
Export Image
Identify
Measure
Compute Histograms
Compute Statistics Histograms
Get Samples
Compute Class Statistics
Query Boundary
Compute Pixel Location
Compute Angles
Validate
Project