View In:
ArcGIS JavaScript
ArcGIS Online Map Viewer
ArcGIS Earth
Service Description: This data set contains imagery from the National Agriculture
Imagery Program (NAIP). NAIP acquires digital ortho imagery
during the agricultural growing seasons in the continental U.S..
A primary goal of the NAIP program is to enable availability of
of ortho imagery within one year of acquisition. NAIP provides
four main products: 1 meter ground sample distance (GSD) ortho
imagery rectified to a horizontal accuracy of within +/- 5
meters of reference digital ortho quarter quads (DOQQ's) from
the National Digital Ortho Program (NDOP); 2 meter GSD
ortho imagery rectified to within +/- 10 meters of reference
DOQQs; 1 meter GSD ortho imagery rectified to within +/- 6
meters to true ground; and, 2 meter GSD ortho imagery rectified
to within +/- 10 meters to true ground. The tiling format of
NAIP imagery is based on a 3.75' x 3.75' quarter quadrangle
with a 300 meter buffer on all four sides. NAIP quarter quads
are formatted to the UTM coordinate system using NAD83. NAIP
imagery may contain as much as 10% cloud cover per tile.
This file was generated by compressing NAIP quarter quadrangle
tiles that cover a county. MrSID compression, with mosaic
option, was used. Target values for the compression ratio
are (15:1) and maximum number of compression levels are used.
Name: NAIP_2006
Description:
Single Fused Map Cache: false
Extent:
XMin: 226699.8654569242
YMin: 4089269.9556624955
XMax: 334709.8654569242
YMax: 4169131.9556624955
Spatial Reference: 26912
(26912)
LatestVCSWkid(0)
Initial Extent:
XMin: 226699.8654569242
YMin: 4089269.9556624955
XMax: 334709.8654569242
YMax: 4169131.9556624955
Spatial Reference: 26912
(26912)
LatestVCSWkid(0)
Full Extent:
XMin: 226699.8654569242
YMin: 4089269.9556624955
XMax: 334709.8654569242
YMax: 4169131.9556624955
Spatial Reference: 26912
(26912)
LatestVCSWkid(0)
Pixel Size X: 1.0
Pixel Size Y: 1.0
Band Count: 3
Pixel Type: U8
RasterFunction Infos: {"rasterFunctionInfos": [{
"name": "None",
"description": "",
"help": ""
}]}
Mensuration Capabilities: Basic
Inspection Capabilities:
Has Histograms: true
Has Colormap: false
Has Multi Dimensions : false
Rendering Rule:
Min Scale: 0
Max Scale: 0
Resampling: false
Copyright Text:
Service Data Type: esriImageServiceDataTypeRGB
Min Values: 0, 0, 0
Max Values: 246, 236, 202
Mean Values: 125.85643444606, 122.90179003387, 94.036889211418
Standard Deviation Values: 55.209276155768, 51.194992136188, 41.696660344547
Object ID Field:
Fields:
None
Default Mosaic Method: Center
Allowed Mosaic Methods:
SortField:
SortValue: null
Mosaic Operator: Max
Default Compression Quality: 75
Default Resampling Method: Bilinear
Max Record Count: null
Max Image Height: 4100
Max Image Width: 15000
Max Download Image Count: null
Max Mosaic Image Count: null
Allow Raster Function: true
Allow Copy: true
Allow Analysis: true
Allow Compute TiePoints: false
Supports Statistics: false
Supports Advanced Queries: false
Use StandardizedQueries: true
Raster Type Infos:
Name: Raster Dataset
Description: Supports all ArcGIS Raster Datasets
Help:
Has Raster Attribute Table: false
Edit Fields Info: null
Ownership Based AccessControl For Rasters: null
Child Resources:
Info
Histograms
Statistics
Key Properties
Legend
Raster Function Infos
Supported Operations:
Export Image
Identify
Measure
Compute Histograms
Compute Statistics Histograms
Get Samples
Compute Class Statistics
Query Boundary
Compute Pixel Location
Compute Angles
Validate
Project