View In:
ArcGIS JavaScript
ArcGIS Online Map Viewer
ArcGIS Earth
Service Description: GraceEpiscopal_WEL
Name: GraceEpiscopal_WEL
Description:
Single Fused Map Cache: true
Tile Info:
- Height: 256
- Width: 256
- DPI: 96
-
Levels of Detail: 24
-
Level ID: 0
[ Start Tile, End Tile ]
- Resolution: 956304.4649896328
- Scale: 1.101664946997951E9
-
Level ID: 1
[ Start Tile, End Tile ]
- Resolution: 478152.2324948164
- Scale: 5.508324734989755E8
-
Level ID: 2
[ Start Tile, End Tile ]
- Resolution: 239076.1162474082
- Scale: 2.7541623674948776E8
-
Level ID: 3
[ Start Tile, End Tile ]
- Resolution: 119538.0581237041
- Scale: 1.3770811837474388E8
-
Level ID: 4
[ Start Tile, End Tile ]
- Resolution: 59769.02906185205
- Scale: 6.885405918737194E7
-
Level ID: 5
[ Start Tile, End Tile ]
- Resolution: 29884.514530926026
- Scale: 3.442702959368597E7
-
Level ID: 6
[ Start Tile, End Tile ]
- Resolution: 14942.257265463013
- Scale: 1.7213514796842985E7
-
Level ID: 7
[ Start Tile, End Tile ]
- Resolution: 7471.1286327315065
- Scale: 8606757.398421492
-
Level ID: 8
[ Start Tile, End Tile ]
- Resolution: 3735.5643163657533
- Scale: 4303378.699210746
-
Level ID: 9
[ Start Tile, End Tile ]
- Resolution: 1867.7821581828766
- Scale: 2151689.349605373
-
Level ID: 10
[ Start Tile, End Tile ]
- Resolution: 933.8910790914383
- Scale: 1075844.6748026866
-
Level ID: 11
[ Start Tile, End Tile ]
- Resolution: 466.94553954571916
- Scale: 537922.3374013433
-
Level ID: 12
[ Start Tile, End Tile ]
- Resolution: 233.47276977285958
- Scale: 268961.16870067164
-
Level ID: 13
[ Start Tile, End Tile ]
- Resolution: 116.73638488642979
- Scale: 134480.58435033582
-
Level ID: 14
[ Start Tile, End Tile ]
- Resolution: 58.368192443214895
- Scale: 67240.29217516791
-
Level ID: 15
[ Start Tile, End Tile ]
- Resolution: 29.184096221607447
- Scale: 33620.146087583955
-
Level ID: 16
[ Start Tile, End Tile ]
- Resolution: 14.592048110803724
- Scale: 16810.073043791977
-
Level ID: 17
[ Start Tile, End Tile ]
- Resolution: 7.296024055401862
- Scale: 8405.036521895989
-
Level ID: 18
[ Start Tile, End Tile ]
- Resolution: 3.648012027700931
- Scale: 4202.518260947994
-
Level ID: 19
[ Start Tile, End Tile ]
- Resolution: 1.8240060138504655
- Scale: 2101.259130473997
-
Level ID: 20
[ Start Tile, End Tile ]
- Resolution: 0.9120030069252327
- Scale: 1050.6295652369986
-
Level ID: 21
[ Start Tile, End Tile ]
- Resolution: 0.45600150346261636
- Scale: 525.3147826184993
-
Level ID: 22
[ Start Tile, End Tile ]
- Resolution: 0.22800075173130818
- Scale: 262.65739130924965
-
Level ID: 23
[ Start Tile, End Tile ]
- Resolution: 0.11400037586565409
- Scale: 131.32869565462482
- Format: LERC
- Compression Quality: 0.0
- LERC Error: 0.05
- Origin: X: -1.2076655485200635E8
Y: 1.19695470701617E8
- Spatial Reference: 102744
(3567)
VCSWkid(105703)
LatestVCSWkid(6360)
Storage Info:
- Storage Format: esriMapCacheStorageModeCompactV2
- Packet Size: 128
Extent:
XMin: 989998.0199999958
YMin: 9965000.079999998
XMax: 1223998.0199999958
YMax: 1.0066980079999998E7
Spatial Reference: 102744
(3567)
LatestVCSWkid(0)
Initial Extent:
XMin: 989998.0199999958
YMin: 9965000.079999998
XMax: 1223998.0199999958
YMax: 1.0066980079999998E7
Spatial Reference: 102744
(3567)
LatestVCSWkid(0)
Full Extent:
XMin: 989998.0199999958
YMin: 9965000.079999998
XMax: 1223998.0199999958
YMax: 1.0066980079999998E7
Spatial Reference: 102744
(3567)
LatestVCSWkid(0)
Pixel Size X: 10.0
Pixel Size Y: 10.0
Band Count: 1
Pixel Type: F32
RasterFunction Infos: {"rasterFunctionInfos": [{
"name": "None",
"description": "",
"help": ""
}]}
Mensuration Capabilities: Basic
Inspection Capabilities:
Has Histograms: true
Has Colormap: false
Has Multi Dimensions : false
Rendering Rule:
Min Scale: 1.101664946997951E9
Max Scale: 8405.036521895989
Min LOD: 0
Max LOD: 17
Resampling: false
Copyright Text:
Service Data Type: esriImageServiceDataTypeGeneric
Min Values: 2561.939697265625
Max Values: 2627.935546875
Mean Values: 2596.299986464637
Standard Deviation Values: 12.780429223578032
Object ID Field:
Fields:
None
Default Mosaic Method: Center
Allowed Mosaic Methods:
SortField:
SortValue: null
Mosaic Operator: First
Default Compression Quality: 75
Default Resampling Method: Bilinear
Max Record Count: null
Max Image Height: 4100
Max Image Width: 15000
Max Download Image Count: null
Max Mosaic Image Count: null
Allow Raster Function: true
Allow Copy: true
Allow Analysis: true
Allow Compute TiePoints: false
Supports Statistics: false
Supports Advanced Queries: false
Use StandardizedQueries: true
Raster Type Infos:
Name: Raster Dataset
Description: Supports all ArcGIS Raster Datasets
Help:
Has Raster Attribute Table: false
Edit Fields Info: null
Ownership Based AccessControl For Rasters: null
Child Resources:
Info
Histograms
Statistics
Key Properties
Legend
Raster Function Infos
Supported Operations:
Export Image
Identify
Measure
Compute Histograms
Compute Statistics Histograms
Get Samples
Compute Class Statistics
Query Boundary
Compute Pixel Location
Compute Angles
Validate
Project