View In:
ArcGIS JavaScript
ArcGIS Online Map Viewer
ArcGIS Earth
Service Description: Field Value 1 = 0-19.9% slope; Field Value 2 = 20-20.99% slope; Field Value 3 = 30%+ slope.
Name: HillsideSlope2009
Description: Field Value 1 = 0-19.9% slope; Field Value 2 = 20-20.99% slope; Field Value 3 = 30%+ slope.
Single Fused Map Cache: false
Extent:
XMin: 228580.06913436882
YMin: 4096589.73684253
XMax: 331956.5714089349
YMax: 4166620.4847517097
Spatial Reference: 26912
(26912)
VCSWkid(5703)
LatestVCSWkid(5703)
Initial Extent:
XMin: 228580.06913436882
YMin: 4096589.73684253
XMax: 331956.5714089349
YMax: 4166620.4847517097
Spatial Reference: 26912
(26912)
VCSWkid(5703)
LatestVCSWkid(5703)
Full Extent:
XMin: 228580.06913436882
YMin: 4096589.73684253
XMax: 331956.5714089349
YMax: 4166620.4847517097
Spatial Reference: 26912
(26912)
VCSWkid(5703)
LatestVCSWkid(5703)
Pixel Size X: 9.327483738569526
Pixel Size Y: 9.32748373856951
Band Count: 1
Pixel Type: U16
RasterFunction Infos: {"rasterFunctionInfos": [{
"name": "None",
"description": "",
"help": ""
}]}
Mensuration Capabilities: Basic
Inspection Capabilities:
Has Histograms: true
Has Colormap: false
Has Multi Dimensions : false
Rendering Rule:
Min Scale: 0
Max Scale: 0
Resampling: false
Copyright Text:
Service Data Type: esriImageServiceDataTypeThematic
Min Values: 1
Max Values: 3
Mean Values: 2.0232290492855
Standard Deviation Values: 0.94199252794684
Object ID Field:
Fields:
None
Default Mosaic Method: Center
Allowed Mosaic Methods:
SortField:
SortValue: null
Mosaic Operator: First
Default Compression Quality: 75
Default Resampling Method: Bilinear
Max Record Count: null
Max Image Height: 4100
Max Image Width: 15000
Max Download Image Count: null
Max Mosaic Image Count: null
Allow Raster Function: true
Allow Copy: true
Allow Analysis: true
Allow Compute TiePoints: false
Supports Statistics: false
Supports Advanced Queries: false
Use StandardizedQueries: true
Raster Type Infos:
Name: Raster Dataset
Description: Supports all ArcGIS Raster Datasets
Help:
Has Raster Attribute Table: true
Edit Fields Info: null
Ownership Based AccessControl For Rasters: null
Child Resources:
Info
Raster Attribute Table
Histograms
Statistics
Key Properties
Legend
Raster Function Infos
Supported Operations:
Export Image
Identify
Measure
Compute Histograms
Compute Statistics Histograms
Get Samples
Compute Class Statistics
Query Boundary
Compute Pixel Location
Compute Angles
Validate
Project